BEGIN:VCALENDAR
VERSION:2.0
PRODID:-//ChamberMaster//Event Calendar 2.0//EN
METHOD:PUBLISH
X-PUBLISHED-TTL:P3D
REFRESH-INTERVAL:P3D
CALSCALE:GREGORIAN
BEGIN:VEVENT
DTSTART:20170930T210000Z
DTEND:20171001T000000Z
X-MICROSOFT-CDO-ALLDAYEVENT:FALSE
SUMMARY:6th Annual "Healing of The Land" Commemoration and Prayer
DESCRIPTION:This year we thank and honor Grif Stockley for his Pioneering Research and Writing. Bar-B-Que Chicken Dinner by James and Vera White (Free). Come between 3:00pm and 4:00pm for a tour with William Quiney III of "where it all happened in 1919".
X-ALT-DESC;FMTTYPE=text/html:This year we thank and honor Grif Stockley&nbsp\;for his Pioneering Research and Writing. Bar-B-Que Chicken Dinner by James and Vera White (Free). Come between 3:00pm&nbsp\;and 4:00pm&nbsp\;for a tour with William Quiney&nbsp\;III of &quot\;where it all happened in 1919&quot\;.&nbsp\;
LOCATION:The Elaine Leagacy Center 313 College Avenure\, Elaine AR
UID:e.2678.83
SEQUENCE:3
DTSTAMP:20260421T105423Z
URL:https://business.phillipscountychamber.org/events/details/6th-annual-healing-of-the-land-commemoration-and-prayer-83
END:VEVENT

END:VCALENDAR
