BEGIN:VCALENDAR
VERSION:2.0
PRODID:-//ChamberMaster//Event Calendar 2.0//EN
METHOD:PUBLISH
X-PUBLISHED-TTL:P3D
REFRESH-INTERVAL:P3D
CALSCALE:GREGORIAN
BEGIN:VEVENT
DTSTART:20170907T220000Z
DTEND:20170908T010000Z
X-MICROSOFT-CDO-ALLDAYEVENT:FALSE
SUMMARY:Alive after 5
DESCRIPTION:Join downtown area merchants for an exciting special offers.
X-ALT-DESC;FMTTYPE=text/html:Join downtown area merchants for an exciting special offers.
LOCATION:Downtown Cherry Street
UID:e.2678.55
SEQUENCE:3
DTSTAMP:20260421T104519Z
URL:https://business.phillipscountychamber.org/events/details/alive-after-5-09-07-2017-55
END:VEVENT

END:VCALENDAR
