BEGIN:VCALENDAR
VERSION:2.0
PRODID:-//ChamberMaster//Event Calendar 2.0//EN
METHOD:PUBLISH
X-PUBLISHED-TTL:P3D
REFRESH-INTERVAL:P3D
CALSCALE:GREGORIAN
BEGIN:VEVENT
DTSTART:20171102T220000Z
DTEND:20171103T000000Z
X-MICROSOFT-CDO-ALLDAYEVENT:FALSE
SUMMARY:Alive After 5
DESCRIPTION:Special Shopping Events at: Handworks\, Bella\, Haute Pare' and JW Hall & Co. Marketplace. Special Dining at Southbound Tavern enjoy the Bills & Jets on the big screen ( half price draft & appetizers 5-7pm).
X-ALT-DESC;FMTTYPE=text/html:Special Shopping Events at: Handworks\, Bella\, Haute Pare&#39\; and JW Hall &amp\; Co. Marketplace. Special Dining at Southbound Tavern enjoy the Bills &amp\; Jets on the big screen ( half price draft &amp\; appetizers 5-7pm).
LOCATION:Down Town Cherry Street
UID:e.2678.117
SEQUENCE:3
DTSTAMP:20260421T081545Z
URL:https://business.phillipscountychamber.org/events/details/alive-after-5-117
END:VEVENT

END:VCALENDAR
