BEGIN:VCALENDAR
VERSION:2.0
PRODID:-//ChamberMaster//Event Calendar 2.0//EN
METHOD:PUBLISH
X-PUBLISHED-TTL:P3D
REFRESH-INTERVAL:P3D
CALSCALE:GREGORIAN
BEGIN:VEVENT
DTSTART:20170803T220000Z
DTEND:20170804T010000Z
X-MICROSOFT-CDO-ALLDAYEVENT:FALSE
SUMMARY:Alive After 5
DESCRIPTION:Alive After Five is a free downtown event hosted by Cherry Street merchants & businesses on the first Thursday of every month. Join us downtown for live music\, art gallery viewing\, discounts & promotions at your favorite downtown shops\, and more!
X-ALT-DESC;FMTTYPE=text/html:<span style="letter-spacing:-.2pt\;"><span style="color:#1D2129\;"><span style="font-family:arial\,sans-serif\;"><span style="font-size:10.0pt\;">Alive After Five is a free downtown event hosted by Cherry Street merchants &amp\; businesses on the first Thursday of every month. Join us downtown for live music\, art gallery viewing\, discounts &amp\; promotions at your favorite downtown shops\, and more!</span></span></span></span>
LOCATION:Downtown Cherry Street\, Helena\, Arkansas
UID:e.2678.41
SEQUENCE:3
DTSTAMP:20260421T115604Z
URL:https://business.phillipscountychamber.org/events/details/alive-after-5-41
END:VEVENT

END:VCALENDAR
