BEGIN:VCALENDAR
VERSION:2.0
PRODID:-//ChamberMaster//Event Calendar 2.0//EN
METHOD:PUBLISH
X-PUBLISHED-TTL:P3D
REFRESH-INTERVAL:P3D
CALSCALE:GREGORIAN
BEGIN:VEVENT
DTSTART:20170909T130000Z
DTEND:20170909T180000Z
X-MICROSOFT-CDO-ALLDAYEVENT:FALSE
SUMMARY:Alzheimer's Arkansas Helena/W. Helena Walk
DESCRIPTION:Pre-registration for the Walk on September 9th at UAMS East from 8:30 a.m. to 1:00 p.m. All pre-registered participants receive 2 door prize tickets. If you wait to register on Walk day you will only receive 1 door prize ticket!\n\n\n\nBanner Competition: Banner designs must be in good taste\; no glitter or feathers is to be used\; banner must display team's name\; must relate to Alzheimer's disease\; be handmade\; original  work\; no professional sign services may be used. \n\n\n\nParticipants who donate at least $25 each will receive a commemorative Walk T-Shirt while supplies last!\n\n\n\nArkansas is #1 in Senior Hunger. Alzhemimer's Arkansas want to do their part in putting an end to Senior Hunger. Please bring 1of 3 Senior Friendly food items to the walk to donate to the Local Food Pantry and receive 1 door prize ticker per person per donation. Peanut Butter\, Soups\, (meat or vegtable) or Ensure/Boost.
X-ALT-DESC;FMTTYPE=text/html:Pre-registration for the Walk on September 9th at UAMS&nbsp\;East from 8:30 a.m. to 1:00 p.m. All pre-registered participants receive 2 door prize tickets. If you wait to register on Walk day you will only receive&nbsp\;1 door prize ticket!<br />\n<br />\nBanner Competition: Banner designs must be in good taste\; no glitter or feathers is to be used\; banner must display team&#39\;s name\; must relate to Alzheimer&#39\;s disease\; be handmade\; original &nbsp\;work\; no professional sign services may be used.&nbsp\;<br />\n<br />\nParticipants who donate at least $25 each will receive a commemorative Walk T-Shirt while supplies last!<br />\n<br />\nArkansas is #1 in Senior Hunger. Alzhemimer&#39\;s Arkansas want to do their part in putting an end to Senior Hunger. Please bring 1of 3 Senior Friendly food items to the walk to donate to the Local Food Pantry and receive 1 door prize ticker per person per donation. Peanut Butter\, Soups\, (meat or vegtable) or Ensure/Boost.
LOCATION:UAMS-- East 1393 Highway 243 South\, West Helena\, AR 72390
UID:e.2678.45
SEQUENCE:3
DTSTAMP:20260421T120050Z
URL:https://business.phillipscountychamber.org/events/details/alzheimer-s-arkansas-helena-w-helena-walk-45
END:VEVENT

END:VCALENDAR
