BEGIN:VCALENDAR
VERSION:2.0
PRODID:-//ChamberMaster//Event Calendar 2.0//EN
METHOD:PUBLISH
X-PUBLISHED-TTL:P3D
REFRESH-INTERVAL:P3D
CALSCALE:GREGORIAN
BEGIN:VEVENT
DTSTART:20170908T133000Z
DTEND:20170908T203000Z
X-MICROSOFT-CDO-ALLDAYEVENT:FALSE
SUMMARY:Alzheimer's Arkansas: Hope For The Future
DESCRIPTION:A  free educational work shop fro those caring for someone with Memory loss\, dementia\, or Alzheimer\;s disease. Includes Guest Speakers and Lunch is provided! Respite Care Financial Support Available. Deadline to register is September 5\, 2017. A $45 Fee for Professionals and Family Caregivers Requesting CEUs.
X-ALT-DESC;FMTTYPE=text/html:A &nbsp\;free educational work shop fro those caring for someone with Memory loss\, dementia\, or Alzheimer\;s disease. Includes Guest Speakers and Lunch is provided! Respite Care Financial Support Available. Deadline to register is September 5\, 2017. A $45 Fee for Professionals and Family Caregivers Requesting CEUs.
LOCATION:UAMS EAST 1393 Highway 243 South\, West Helena\, AR 72342
UID:e.2678.46
SEQUENCE:3
DTSTAMP:20260421T105221Z
URL:https://business.phillipscountychamber.org/events/details/alzheimer-s-arkansas-hope-for-the-future-46
END:VEVENT

END:VCALENDAR
