BEGIN:VCALENDAR
VERSION:2.0
PRODID:-//ChamberMaster//Event Calendar 2.0//EN
METHOD:PUBLISH
X-PUBLISHED-TTL:P3D
REFRESH-INTERVAL:P3D
CALSCALE:GREGORIAN
BEGIN:VEVENT
DTSTART:20171109T200000Z
DTEND:20171109T230000Z
X-MICROSOFT-CDO-ALLDAYEVENT:FALSE
SUMMARY:ASBTDC\; Top-Notch Costumer Service Class
DESCRIPTION:Excellent customer service is a cost-free marketing technique\, as well as a way to set your business apart from your competitors. Learn how to exceed customer expectations\, handle unhappy customers\, and create a culture of top-notch customer service. For more information or to register click here.
X-ALT-DESC;FMTTYPE=text/html:<pre style="box-sizing: border-box\; margin-top: 0px\; margin-bottom: 0px\; padding: 12px 15px\; border: 0px\; font-size: 14px\; font-family: &quot\;Source Code Pro&quot\;\, Consolas\, &quot\;Lucida Console&quot\;\, Courier\, monospace\; vertical-align: baseline\; line-height: 1.28571em\; max-width: 635px\; color: rgb(72\, 72\, 72)\;">\n<span style="font-family: arial\;">Excellent customer service is a cost-free marketing technique\, as well as a way to set your business apart from your competitors. Learn how to exceed customer expectations\, handle unhappy customers\, and create a culture of top-notch customer service. <strong>For more information or to register click <a href="https://events.r20.constantcontact.com/register/eventReg?oeidk=a07eeg8pbjx4a201a23">here</a>.</strong></span></pre>\n
LOCATION:Phillips County Chamber of Commerce 111 Hickory Hill Drive Helena\, AR 72342
UID:e.2678.118
SEQUENCE:3
DTSTAMP:20260421T081734Z
URL:https://business.phillipscountychamber.org/events/details/asbtdc-top-notch-costumer-service-class-118
END:VEVENT

END:VCALENDAR
