BEGIN:VCALENDAR
VERSION:2.0
PRODID:-//ChamberMaster//Event Calendar 2.0//EN
METHOD:PUBLISH
X-PUBLISHED-TTL:P3D
REFRESH-INTERVAL:P3D
CALSCALE:GREGORIAN
BEGIN:VEVENT
DTSTART:20171104T210000Z
DTEND:20171104T230000Z
X-MICROSOFT-CDO-ALLDAYEVENT:FALSE
SUMMARY:Bailee Mae's: Open Mic Night
DESCRIPTION:Everyone's invited to use the mic. Come early to sign up or just come and enjoy the hottest lyrics\, sweetest poetry\, or smoothest ballads our community has to offer.
X-ALT-DESC;FMTTYPE=text/html:Everyone&#39\;s invited to use the mic. Come early to sign up or just come and enjoy the hottest lyrics\, sweetest poetry\, or smoothest ballads our community has to offer.
LOCATION:Bailee Mae's 209 Rightor Street
UID:e.2678.116
SEQUENCE:3
DTSTAMP:20260423T082815Z
URL:https://business.phillipscountychamber.org/events/details/bailee-mae-s-open-mic-night-116
END:VEVENT

END:VCALENDAR
