BEGIN:VCALENDAR
VERSION:2.0
PRODID:-//ChamberMaster//Event Calendar 2.0//EN
METHOD:PUBLISH
X-PUBLISHED-TTL:P3D
REFRESH-INTERVAL:P3D
CALSCALE:GREGORIAN
BEGIN:VEVENT
DTSTART:20171109T010000Z
DTEND:20171108T180000Z
X-MICROSOFT-CDO-ALLDAYEVENT:FALSE
SUMMARY:BGACDC: 33rd Annual Fundraising Event
DESCRIPTION:You are cordially invited to BGACDC's 33rd annual fund-raising event\,  BGACDC Board Banquet on November 8\, 2017.  Former resident Robert Spears will be the keynote speaker. Currently residing in Hernando\, MS\, Mr. Spears retired from the City of Milwaukee\, WI and serves as a vital community advocate with a strong interest in supporting organizations like BGACDC.  \n\n\n\nBGACDC is your community organization\, and has worked for nearly four decades to save our children\, create affordable housing and be a community advocate organization.
X-ALT-DESC;FMTTYPE=text/html:<p>You are cordially invited to BGACDC&#39\;s 33rd annual fund-raising event\,&nbsp\;&nbsp\;<strong>BGACDC Board Banquet</strong> on November 8\, 2017.&nbsp\; Former resident&nbsp\;Robert Spears will be the keynote speaker. Currently residing in Hernando\, MS\, Mr. Spears retired from the City of Milwaukee\, WI and serves as a vital community advocate with a strong interest in supporting organizations like BGACDC.&nbsp\;&nbsp\;</p>\n\n<p><br />\nBGACDC is your community organization\, and has worked for nearly four decades to save our children\, create affordable housing and be a community advocate organization.&nbsp\;</p>\n
LOCATION:306 Hwy 49 Marvell\, AR 72366
UID:e.2678.115
SEQUENCE:3
DTSTAMP:20260421T122636Z
URL:https://business.phillipscountychamber.org/events/details/bgacdc-33rd-annual-fundraising-event-115
END:VEVENT

END:VCALENDAR
