BEGIN:VCALENDAR
VERSION:2.0
PRODID:-//ChamberMaster//Event Calendar 2.0//EN
METHOD:PUBLISH
X-PUBLISHED-TTL:P3D
REFRESH-INTERVAL:P3D
CALSCALE:GREGORIAN
BEGIN:VEVENT
DTSTART:20171029T190000Z
DTEND:20171029T210000Z
X-MICROSOFT-CDO-ALLDAYEVENT:FALSE
SUMMARY:Blessing of the Animals
DESCRIPTION:Hosted by St. John's Episcopal Church and First United Methodist Church. All pets will recieve a free collapsible water bowl
X-ALT-DESC;FMTTYPE=text/html:Hosted by St. John&#39\;s Episcopal Church and First United Methodist Church. All pets will recieve a free collapsible water bowl
LOCATION:First United Methodist Church Garden (Corner of Perry and Pecan Streets)
UID:e.2678.106
SEQUENCE:3
DTSTAMP:20260419T114200Z
URL:https://business.phillipscountychamber.org/events/details/blessing-of-the-animals-106
END:VEVENT

END:VCALENDAR
