BEGIN:VCALENDAR
VERSION:2.0
PRODID:-//ChamberMaster//Event Calendar 2.0//EN
METHOD:PUBLISH
X-PUBLISHED-TTL:P3D
REFRESH-INTERVAL:P3D
CALSCALE:GREGORIAN
BEGIN:VEVENT
DTSTART:20170809T140000Z
DTEND:20170809T193000Z
X-MICROSOFT-CDO-ALLDAYEVENT:FALSE
SUMMARY:Blooddrive
DESCRIPTION:The blood drive is in honor of two year old Zellie Norsworthy\, who has been battling with Leukemia since October 2016. There will be a drawing at the end of the blood drive for a $100 for all of those who give blood.
X-ALT-DESC;FMTTYPE=text/html:The blood drive is in honor of two year old Zellie Norsworthy\, who has been battling with Leukemia since October 2016. There will be a drawing at the end of the blood drive for a $100 for all of those who give blood.
LOCATION:St. Andrew's Catholic Church 70 west Tennessee Street Marianna\, AR 72360
UID:e.2678.42
SEQUENCE:3
DTSTAMP:20260421T115611Z
URL:https://business.phillipscountychamber.org/events/details/blooddrive-42
END:VEVENT

END:VCALENDAR
