BEGIN:VCALENDAR
VERSION:2.0
PRODID:-//ChamberMaster//Event Calendar 2.0//EN
METHOD:PUBLISH
X-PUBLISHED-TTL:P3D
REFRESH-INTERVAL:P3D
CALSCALE:GREGORIAN
BEGIN:VEVENT
DTSTART:20171103T233000Z
DTEND:20171104T020000Z
X-MICROSOFT-CDO-ALLDAYEVENT:FALSE
SUMMARY:Blue Hornet Choir's CHILI SUPPER
DESCRIPTION:KIPP Delta Collegiate High School's very own Blue Hornet Choir is hosting their first annual Chili Supper on Friday\, November 3rd at 6:30pm. Come join us for food\, family-friendly fun\, and performances from two KIPP Delta musical groups. Proceeds benefit the Blue Hornet Choir and the Blue Chaos Drumline. Dinner is $2 in advance\, $3 at the door with game tickets available at the event. Contact Elizabeth Garcia at (870) 714 1187 or elizabeth.garcia@kippdelta.org
X-ALT-DESC;FMTTYPE=text/html:KIPP Delta Collegiate High School&#39\;s very own Blue Hornet Choir is hosting their first annual Chili Supper on Friday\, November 3rd at 6:30pm. Come join us for food\, family-friendly fun\, and performances from two KIPP Delta musical groups. Proceeds benefit the Blue Hornet Choir and the Blue Chaos Drumline. Dinner is $2 in advance\, $3 at the door with game tickets available at the event. Contact Elizabeth Garcia at (870) 714 1187 or elizabeth.garcia@kippdelta.org
LOCATION:215 Cherry Street\, Helena-West Helena\, AR 72342
UID:e.2678.108
SEQUENCE:3
DTSTAMP:20260421T082130Z
URL:https://business.phillipscountychamber.org/events/details/blue-hornet-choir-s-chili-supper-108
END:VEVENT

END:VCALENDAR
