BEGIN:VCALENDAR
VERSION:2.0
PRODID:-//ChamberMaster//Event Calendar 2.0//EN
METHOD:PUBLISH
X-PUBLISHED-TTL:P3D
REFRESH-INTERVAL:P3D
CALSCALE:GREGORIAN
BEGIN:VEVENT
DTSTART:20170725T150000Z
DTEND:20170725T170000Z
X-MICROSOFT-CDO-ALLDAYEVENT:FALSE
SUMMARY:CASA: 2nd Lunch and Learn
DESCRIPTION:Come and Learn more about CASA and how you can be a voice for a child in Foster Care. Speakers will be: CASA Director Donita Ross\, Carolyn Slaughter CASA Program Coordinator\, Pamela Lane DCFS Supervisor\, Marva Pryor\, Chloe Harrison Volunteer Coordinator. Closing remarks Pearl Walton Phillips County Volunteer Coordinator. For more information\, contact 870-338-8815.
X-ALT-DESC;FMTTYPE=text/html:<span style="color: rgb(0\, 0\, 0)\; font-family: Arial\, Helvetica\, sans-serif\; font-size: 15px\;">Come and Learn more about CASA and how you can be a voice for a child in Foster Care. Speakers will be: CASA Director Donita Ross\, Carolyn Slaughter CASA Program Coordinator\, Pamela Lane DCFS Supervisor\, Marva Pryor\, Chloe Harrison Volunteer Coordinator. Closing remarks Pearl Walton Phillips County Volunteer Coordinator. For more information\, contact 870-338-8815.</span>
LOCATION:Phillips County Chamber of Commerce 111 Hickory Hill Drive
UID:e.2678.32
SEQUENCE:3
DTSTAMP:20260421T131637Z
URL:https://business.phillipscountychamber.org/events/details/casa-2nd-lunch-and-learn-32
END:VEVENT

END:VCALENDAR
