BEGIN:VCALENDAR
VERSION:2.0
PRODID:-//ChamberMaster//Event Calendar 2.0//EN
METHOD:PUBLISH
X-PUBLISHED-TTL:P3D
REFRESH-INTERVAL:P3D
CALSCALE:GREGORIAN
BEGIN:VEVENT
DTSTART:20170812T210000Z
DTEND:20170813T010000Z
X-MICROSOFT-CDO-ALLDAYEVENT:FALSE
SUMMARY:Cherry Street Fair
DESCRIPTION:Come out and enjoy games in the "Kidzone" for the kids\, a beer garden\, Cherry Street Classics Car & Motorcycle Show\, local food & craft vendors and live music each month\, sponsored by the Delta Cultural Center.
X-ALT-DESC;FMTTYPE=text/html:<p id="yui_3_17_2_7_1499888259441_2271" style="word-wrap: break-word\; color: rgba(31\, 37\, 38\, 0.75)\; font-family: calluna\; font-size: 16px\; letter-spacing: 0.4px\;">Come out and enjoy games in the &quot\;Kidzone&quot\; for the kids\, a beer garden\, Cherry Street Classics Car &amp\; Motorcycle Show\, local food &amp\; craft vendors and live music each month\, sponsored by the Delta Cultural Center.</p>\n
LOCATION:Historic Downtown Helena
UID:e.2678.5
SEQUENCE:3
DTSTAMP:20260421T131647Z
URL:https://business.phillipscountychamber.org/events/details/cherry-street-fair-5
END:VEVENT

END:VCALENDAR
