BEGIN:VCALENDAR
VERSION:2.0
PRODID:-//ChamberMaster//Event Calendar 2.0//EN
METHOD:PUBLISH
X-PUBLISHED-TTL:P3D
REFRESH-INTERVAL:P3D
CALSCALE:GREGORIAN
BEGIN:VEVENT
DTSTART:20171116T170000Z
DTEND:20171116T200000Z
X-MICROSOFT-CDO-ALLDAYEVENT:FALSE
SUMMARY:Deco\,A Small Mall: Mingle and Jingle
DESCRIPTION:Mingle and Jingle at Deco\, come and enjoy a light lunch while you preview new fall and Christmas merchandise. Also\, there will be a door prize.
X-ALT-DESC;FMTTYPE=text/html:Mingle and Jingle at Deco\, come and enjoy a light lunch while you preview new fall and Christmas merchandise. Also\, there will be a door prize.
LOCATION:603 Oakland Avenue
UID:e.2678.120
SEQUENCE:3
DTSTAMP:20260421T081940Z
URL:https://business.phillipscountychamber.org/events/details/deco-a-small-mall-mingle-and-jingle-120
END:VEVENT

END:VCALENDAR
