BEGIN:VCALENDAR
VERSION:2.0
PRODID:-//ChamberMaster//Event Calendar 2.0//EN
METHOD:PUBLISH
X-PUBLISHED-TTL:P3D
REFRESH-INTERVAL:P3D
CALSCALE:GREGORIAN
BEGIN:VEVENT
DTSTART:20171104T150000Z
DTEND:20171104T190000Z
X-MICROSOFT-CDO-ALLDAYEVENT:FALSE
SUMMARY:Deco\,A Small Mall: T-Shirt Madness
DESCRIPTION:T-shirt Madness sponsored by Southern Sisters. Order form 2 designs for pocket T monogram. T-shirts specially priced at $10\, including monogram. A perfect stocking stuffer. Beanies will be availabe for purchase that same day. Enjoy refreshments. Margaritas served beginning at noon. At Deco\, A Small Mall.
X-ALT-DESC;FMTTYPE=text/html:T-shirt Madness sponsored by Southern Sisters. Order form 2 designs for pocket T monogram. T-shirts specially priced at $10\, including monogram. A perfect stocking stuffer. Beanies will be availabe for purchase that same day. Enjoy refreshments. Margaritas served beginning at noon. At Deco\, A Small Mall.
LOCATION:603 Oakland Avenure
UID:e.2678.111
SEQUENCE:3
DTSTAMP:20260421T082114Z
URL:https://business.phillipscountychamber.org/events/details/deco-a-small-mall-t-shirt-madness-111
END:VEVENT

END:VCALENDAR
