BEGIN:VCALENDAR
VERSION:2.0
PRODID:-//ChamberMaster//Event Calendar 2.0//EN
METHOD:PUBLISH
X-PUBLISHED-TTL:P3D
REFRESH-INTERVAL:P3D
CALSCALE:GREGORIAN
BEGIN:VEVENT
DTSTART:20171116T000000Z
DTEND:20171116T030000Z
X-MICROSOFT-CDO-ALLDAYEVENT:FALSE
SUMMARY:Delta Cultural Center: Civil War Roundtable
DESCRIPTION:The Delta Cultural Center will host the Civil War Roundtable of the Delta. Helena Native Dr. Bobby Roberts will present a program entitled " The Unburdening of Southern History: Will the Removal of Confederate Monuments Unburden Us of Our Past?
X-ALT-DESC;FMTTYPE=text/html:The Delta Cultural Center will host the Civil War Roundtable of the Delta. Helena Native Dr. Bobby Roberts will present a program entitled &quot\; The Unburdening of Southern History: Will the Removal of Confederate Monuments Unburden Us of Our Past?
LOCATION:Beth El Heritage Hall 406 Pecan St. Helena\, AR 72342
UID:e.2678.119
SEQUENCE:3
DTSTAMP:20260421T082327Z
URL:https://business.phillipscountychamber.org/events/details/delta-cultural-center-civil-war-roundtable-119
END:VEVENT

END:VCALENDAR
