BEGIN:VCALENDAR
VERSION:2.0
PRODID:-//ChamberMaster//Event Calendar 2.0//EN
METHOD:PUBLISH
X-PUBLISHED-TTL:P3D
REFRESH-INTERVAL:P3D
CALSCALE:GREGORIAN
BEGIN:VEVENT
DTSTART:20171022T193000Z
DTEND:20171022T210000Z
X-MICROSOFT-CDO-ALLDAYEVENT:FALSE
SUMMARY:Delta Cultural Center: "Low Villains and Wickedness in High Places: Race and Class in the Elaine Massacre
DESCRIPTION:The Delta Cultural Center wil host a presentation by Dr. Jeanie Whayne\, UA history professor\, entitled " Low Villains and wickedness in High Places: Race and Class in the Elaine Massacre.
X-ALT-DESC;FMTTYPE=text/html:The Delta Cultural Center wil host a presentation by Dr. Jeanie Whayne\, UA history professor\, entitled &quot\; Low Villains and wickedness in High Places: Race and Class in the Elaine Massacre.
LOCATION:Beth El Heritage hall 406 Perry Street
UID:e.2678.99
SEQUENCE:3
DTSTAMP:20260419T120008Z
URL:https://business.phillipscountychamber.org/events/details/delta-cultural-center-low-villains-and-wickedness-in-high-places-race-and-class-in-the-elaine-massacre-99
END:VEVENT

END:VCALENDAR
