BEGIN:VCALENDAR
VERSION:2.0
PRODID:-//ChamberMaster//Event Calendar 2.0//EN
METHOD:PUBLISH
X-PUBLISHED-TTL:P3D
REFRESH-INTERVAL:P3D
CALSCALE:GREGORIAN
BEGIN:VEVENT
DTSTART:20170730T190000Z
DTEND:20170730T223000Z
X-MICROSOFT-CDO-ALLDAYEVENT:FALSE
SUMMARY:Delta Cultural Center: Remember 1919: A Story Sharing about South Phillips County
DESCRIPTION:This event will include a staged reading of the play "Scapegoat." by Minneapolis-based playwright\, Christina Ham. "Scapegoat" is a play that stretches between the events ofo the 1919 Elaine Massacre to the present day. Following the reading\, there will be time for local community members to share their own stories of south Phillips County. A reception with music will foll from 5:30pm -6:30pm. This event is free and open to the public. For more information\, contact Paula Oliver at 870-338-4350.
X-ALT-DESC;FMTTYPE=text/html:<span style="color: rgb(0\, 0\, 0)\; font-family: Arial\, Helvetica\, sans-serif\; font-size: 15px\;">This event will include a staged reading of the play &quot\;Scapegoat.&quot\; by Minneapolis-based playwright\, Christina Ham. &quot\;Scapegoat&quot\; is a play that stretches between the events ofo the 1919 Elaine Massacre to the present day. Following the reading\, there will be time for local community members to share their own stories of south Phillips County. A reception with music will foll from 5:30pm -6:30pm. This event is free and open to the public. For more information\, contact Paula Oliver at 870-338-4350.</span>
LOCATION:Beth El Heritage Hall 405 Perry Street
UID:e.2678.10
SEQUENCE:3
DTSTAMP:20260421T131938Z
URL:https://business.phillipscountychamber.org/events/details/delta-cultural-center-remember-1919-a-story-sharing-about-south-phillips-county-10
END:VEVENT

END:VCALENDAR
