BEGIN:VCALENDAR
VERSION:2.0
PRODID:-//ChamberMaster//Event Calendar 2.0//EN
METHOD:PUBLISH
X-PUBLISHED-TTL:P3D
REFRESH-INTERVAL:P3D
CALSCALE:GREGORIAN
BEGIN:VEVENT
DTSTART:20171114T190000Z
DTEND:20171128T200000Z
X-MICROSOFT-CDO-ALLDAYEVENT:FALSE
SUMMARY:Diabetes Education Classes
DESCRIPTION:Join us for a dynamic and fun multi-part program\, led by a health-care team that has special training in diabetes management. Come learn with us and gain confidence in your diabetes management abilities!
X-ALT-DESC;FMTTYPE=text/html:Join us for a dynamic and fun multi-part program\, led by a health-care team that has special training in diabetes management. Come learn with us and gain confidence in your diabetes management abilities!
LOCATION:UAMS East
UID:e.2678.113
SEQUENCE:3
DTSTAMP:20260421T081611Z
URL:https://business.phillipscountychamber.org/events/details/diabetes-education-classes-113
END:VEVENT

END:VCALENDAR
