BEGIN:VCALENDAR
VERSION:2.0
PRODID:-//ChamberMaster//Event Calendar 2.0//EN
METHOD:PUBLISH
X-PUBLISHED-TTL:P3D
REFRESH-INTERVAL:P3D
CALSCALE:GREGORIAN
BEGIN:VEVENT
DTSTART:20170927T210000Z
DTEND:20170927T230000Z
X-MICROSOFT-CDO-ALLDAYEVENT:FALSE
SUMMARY:Edwardian Inn Porch Party
DESCRIPTION:Join us on the front porch of the Edwardian Inn for a wine and cheese reception for the 2017 FAM Tour group! This group consists of some Arkansas Department of Tourism employees who staff the 14 Welcome Centers located across our state at the major highway entry/exit sites and in Little Rock. They are the ones who help visitors plan their activities and accommodations while traveling in Arkansas. These "fam tours" occur each spring and fall and alternate tourist regions visited. Helena and our part of the Delta are on the tour schedule about every three years. During their visit this year\, we have them scheduled for a Civil War Site Tour and a canoe trip with John Ruskey to name a couple of things. Help us "sell Helena" to them so they\, in turn\, will "sell" us to those visiting Arkansas.
X-ALT-DESC;FMTTYPE=text/html:Join us on the front porch of the Edwardian Inn for a wine and cheese reception for the 2017 FAM Tour group! This group consists of some Arkansas Department of Tourism employees who staff the 14 Welcome Centers located across our state at the major highway entry/exit sites and in Little Rock. They are the ones who help visitors plan their activities and accommodations while traveling in Arkansas. These &ldquo\;fam tours&rdquo\; occur each spring and fall and alternate tourist regions visited. Helena and our part of the Delta are on the tour schedule about every three years. During their visit this year\, we have them scheduled for a Civil War Site Tour and a canoe trip with John Ruskey&hellip\;to name a couple of things. Help us &ldquo\;sell Helena&rdquo\; to them so they\, in turn\, will &ldquo\;sell&rdquo\; us to those visiting Arkansas.
LOCATION:317 Biscoe St. Helena\, AR 72342
UID:e.2678.7
SEQUENCE:3
DTSTAMP:20260421T105328Z
URL:https://business.phillipscountychamber.org/events/details/edwardian-inn-porch-party-7
END:VEVENT

END:VCALENDAR
