BEGIN:VCALENDAR
VERSION:2.0
PRODID:-//ChamberMaster//Event Calendar 2.0//EN
METHOD:PUBLISH
X-PUBLISHED-TTL:P3D
REFRESH-INTERVAL:P3D
CALSCALE:GREGORIAN
BEGIN:VEVENT
DTSTART:20171114T170000Z
DTEND:20171114T180000Z
X-MICROSOFT-CDO-ALLDAYEVENT:FALSE
SUMMARY:Fenter Physical Therapy Ribbon Cutting
DESCRIPTION:Come out and help celebrate Fenter Physical Therapy Grand Opening with us.
X-ALT-DESC;FMTTYPE=text/html:Come out and help celebrate Fenter Physical Therapy Grand Opening with us.&nbsp\;
LOCATION:Fenter Physical Therapy 705 N. Sebastian
UID:e.2678.121
SEQUENCE:3
DTSTAMP:20260421T081735Z
URL:https://business.phillipscountychamber.org/events/details/fenter-physical-therapy-ribbon-cutting-121
END:VEVENT

END:VCALENDAR
