BEGIN:VCALENDAR
VERSION:2.0
PRODID:-//ChamberMaster//Event Calendar 2.0//EN
METHOD:PUBLISH
X-PUBLISHED-TTL:P3D
REFRESH-INTERVAL:P3D
CALSCALE:GREGORIAN
BEGIN:VEVENT
DTSTART:20171110T230000Z
DTEND:20171111T020000Z
X-MICROSOFT-CDO-ALLDAYEVENT:FALSE
SUMMARY:Forever Flowers Annual Christmas Open House
DESCRIPTION:Come out and shop with us during our open house. The Store will be 20% off store wide cash and carry.
X-ALT-DESC;FMTTYPE=text/html:Come out and shop with us during our open house. The Store will be 20% off store wide cash and carry.&nbsp\;
LOCATION:Forever Flowers 204 Roosevelt Marvell AR
UID:e.2678.126
SEQUENCE:3
DTSTAMP:20260421T082416Z
URL:https://business.phillipscountychamber.org/events/details/forever-flowers-annual-christmas-open-house-126
END:VEVENT

END:VCALENDAR
