BEGIN:VCALENDAR
VERSION:2.0
PRODID:-//ChamberMaster//Event Calendar 2.0//EN
METHOD:PUBLISH
X-PUBLISHED-TTL:P3D
REFRESH-INTERVAL:P3D
CALSCALE:GREGORIAN
BEGIN:VEVENT
DTSTART:20171111T150000Z
DTEND:20171111T210000Z
X-MICROSOFT-CDO-ALLDAYEVENT:FALSE
SUMMARY:Forever Flowers Annual Christmas Open House
DESCRIPTION:Come out and shop with us for our Annual Christmas Open House. There will be 20% off Store wide cash and carry.
X-ALT-DESC;FMTTYPE=text/html:Come out and shop with us for our Annual Christmas Open House. There will be 20% off Store wide cash and carry.
LOCATION:Forever Flowers 204 Roosevelt Marvell AR
UID:e.2678.127
SEQUENCE:3
DTSTAMP:20260421T082417Z
URL:https://business.phillipscountychamber.org/events/details/forever-flowers-annual-christmas-open-house-127
END:VEVENT

END:VCALENDAR
