BEGIN:VCALENDAR
VERSION:2.0
PRODID:-//ChamberMaster//Event Calendar 2.0//EN
METHOD:PUBLISH
X-PUBLISHED-TTL:P3D
REFRESH-INTERVAL:P3D
CALSCALE:GREGORIAN
BEGIN:VEVENT
DTSTART:20170911T223000Z
DTEND:20170912T010000Z
X-MICROSOFT-CDO-ALLDAYEVENT:FALSE
SUMMARY:Girl Scout Recruitment Day
DESCRIPTION:Recruitment for Girl Scouts. Girl Scouts practice leadership grit like a go-getter problem sove like an innovator\, embrace new challenges like a risk-taker\, and show empathy like a leader.
X-ALT-DESC;FMTTYPE=text/html:Recruitment for Girl Scouts. Girl Scouts practice leadership grit like a go-getter problem sove like an innovator\, embrace new challenges like a risk-taker\, and show empathy like a leader.&nbsp\;
LOCATION:Great Rivers Education Service Cooperative Located on PCCUA Campus
UID:e.2678.54
SEQUENCE:3
DTSTAMP:20260421T120051Z
URL:https://business.phillipscountychamber.org/events/details/girl-scout-recruitment-day-54
END:VEVENT

END:VCALENDAR
