BEGIN:VCALENDAR
VERSION:2.0
PRODID:-//ChamberMaster//Event Calendar 2.0//EN
METHOD:PUBLISH
X-PUBLISHED-TTL:P3D
REFRESH-INTERVAL:P3D
CALSCALE:GREGORIAN
BEGIN:VEVENT
DTSTART:20171112T020000Z
DTEND:20171112T055000Z
X-MICROSOFT-CDO-ALLDAYEVENT:FALSE
SUMMARY:Glitz & Glamour Fall Soiree': Hosted by Alpha Kappa Alpha Sorority Inc Mu Chi Omega Chapter
DESCRIPTION:
X-ALT-DESC;FMTTYPE=text/html:
LOCATION:PCCUA Fine Arts Bldg. 1000 Campus Drive\, Helena\, AR 72342
UID:e.2678.81
SEQUENCE:3
DTSTAMP:20260421T082535Z
URL:https://business.phillipscountychamber.org/events/details/glitz-glamour-fall-soiree-hosted-by-alpha-kappa-alpha-sorority-inc-mu-chi-omega-chapter-81
END:VEVENT

END:VCALENDAR
