BEGIN:VCALENDAR
VERSION:2.0
PRODID:-//ChamberMaster//Event Calendar 2.0//EN
METHOD:PUBLISH
X-PUBLISHED-TTL:P3D
REFRESH-INTERVAL:P3D
CALSCALE:GREGORIAN
BEGIN:VEVENT
DTSTART:20171107T170000Z
DTEND:20171107T230000Z
X-MICROSOFT-CDO-ALLDAYEVENT:FALSE
SUMMARY:Grand Opening Celebration: UAMS Family Medical Center
DESCRIPTION:Please come out and be among the first to see the new UAMS Family Medical Center. Clinic tours will be conducted\, and refreshments served\, including hot dogs\, hamburgers popcorn from noon - 5:00pm. Come learn more about our personalized care an service and meet our health care team.
X-ALT-DESC;FMTTYPE=text/html:Please come out and be among the first to see the new UAMS Family Medical Center. Clinic tours will be conducted\, and refreshments served\, including hot dogs\, hamburgers popcorn from noon - 5:00pm. Come learn more about our personalized care an service and meet our health care team.
LOCATION:UAMS Family Medical Center 1393 Highway 242 Helena\, AR 72342
UID:e.2678.110
SEQUENCE:3
DTSTAMP:20260421T082740Z
URL:https://business.phillipscountychamber.org/events/details/grand-opening-celebration-uams-family-medical-center-110
END:VEVENT

END:VCALENDAR
