BEGIN:VCALENDAR
VERSION:2.0
PRODID:-//ChamberMaster//Event Calendar 2.0//EN
METHOD:PUBLISH
X-PUBLISHED-TTL:P3D
REFRESH-INTERVAL:P3D
CALSCALE:GREGORIAN
BEGIN:VEVENT
DTSTART:20171210T000000Z
DTEND:20171210T020000Z
X-MICROSOFT-CDO-ALLDAYEVENT:FALSE
SUMMARY:Helena-West Helena Christmas Parade
DESCRIPTION:HWH Christmas Parade theme will be " Disney Magical Christmas". Line up will start at 5pm and parade will begin at 6pm.
X-ALT-DESC;FMTTYPE=text/html:<p>HWH Christmas Parade theme will be &quot\; Disney Magical Christmas&quot\;. Line up will start at 5pm&nbsp\;and parade will begin at 6pm.</p>\n
LOCATION:7th and plaza Street
UID:e.2678.138
SEQUENCE:3
DTSTAMP:20260421T083415Z
URL:https://business.phillipscountychamber.org/events/details/helena-west-helena-christmas-parade-138
END:VEVENT

END:VCALENDAR
