BEGIN:VCALENDAR
VERSION:2.0
PRODID:-//ChamberMaster//Event Calendar 2.0//EN
METHOD:PUBLISH
X-PUBLISHED-TTL:P3D
REFRESH-INTERVAL:P3D
CALSCALE:GREGORIAN
BEGIN:VEVENT
DTSTART:20171104T103000Z
DTEND:20171104T140000Z
X-MICROSOFT-CDO-ALLDAYEVENT:FALSE
SUMMARY:Helena-West Helena Relay for Life 2017: Holiday Hustle 5K
DESCRIPTION:The Holiday Hustle 5K registration will begin from 6:30 am unitl 7:15 am. The registration fee will be $35 if you pre-register and $40 if you wait until the day of the race. Participants will receive a T-shirt if registered by 10/16/2017. Virtual Runners must register by deadline to receive shirt. You can register online at racesonline.com and pay your fee with credit card ( NOT TAX DEDUCTIBLE) or you may by pay check. Make all checks payable to ACS (TAX DEDUCTIBLE). Click here to download registration form or come by the chamber and pick one up.
X-ALT-DESC;FMTTYPE=text/html:The Holiday Hustle 5K registration will begin from 6:30 am unitl 7:15 am. The registration fee will be $35 if you pre-register and $40 if you wait until the day of the race. Participants will receive a T-shirt if registered by 10/16/2017. Virtual Runners must register by deadline to receive shirt. You can register online at racesonline.com and pay your fee with credit card ( NOT TAX DEDUCTIBLE)&nbsp\;or you may by pay check. Make all checks payable to ACS (TAX DEDUCTIBLE). Click here to download registration form or come by the chamber and pick one up.
LOCATION:Courthouse Park
UID:e.2678.67
SEQUENCE:3
DTSTAMP:20260421T082550Z
URL:https://business.phillipscountychamber.org/events/details/helena-west-helena-relay-for-life-2017-holiday-hustle-5k-67
END:VEVENT

END:VCALENDAR
