BEGIN:VCALENDAR
VERSION:2.0
PRODID:-//ChamberMaster//Event Calendar 2.0//EN
METHOD:PUBLISH
X-PUBLISHED-TTL:P3D
REFRESH-INTERVAL:P3D
CALSCALE:GREGORIAN
BEGIN:VEVENT
DTSTART:20170727T140000Z
DTEND:20170727T150000Z
X-MICROSOFT-CDO-ALLDAYEVENT:FALSE
SUMMARY:Helena-West Helena School District :Miller Building Ribbon Cutting
DESCRIPTION:HWHSD will be hosting a ribbon cutting for the new miller building. Come join us!
X-ALT-DESC;FMTTYPE=text/html:<span style="color: rgba(31\, 37\, 38\, 0.75)\; font-family: calluna\; font-size: 16px\; letter-spacing: 0.4px\;">HWHSD will be hosting a ribbon cutting for the new miller building. Come join us!</span>
LOCATION:
UID:e.2678.1
SEQUENCE:3
DTSTAMP:20260421T132016Z
URL:https://business.phillipscountychamber.org/events/details/helena-west-helena-school-district-miller-building-ribbon-cutting-1
END:VEVENT

END:VCALENDAR
