BEGIN:VCALENDAR
VERSION:2.0
PRODID:-//ChamberMaster//Event Calendar 2.0//EN
METHOD:PUBLISH
X-PUBLISHED-TTL:P3D
REFRESH-INTERVAL:P3D
CALSCALE:GREGORIAN
BEGIN:VEVENT
DTSTART:20171119T190000Z
DTEND:20171119T230000Z
X-MICROSOFT-CDO-ALLDAYEVENT:FALSE
SUMMARY:Holiday Open House in Historic Downtown Helena
DESCRIPTION:'Tis the season for festive shopping and dining in Historic Downtown Helena Arkansas! Downtown merchants and restaurants will have special open house discounts and specials\, as well as holiday music and more!
X-ALT-DESC;FMTTYPE=text/html:&#39\;Tis the season for festive shopping and dining in Historic Downtown Helena Arkansas! Downtown merchants and restaurants will have special open house discounts and specials\, as well as holiday music and more!
LOCATION:Historic Downtown Helena
UID:e.2678.129
SEQUENCE:3
DTSTAMP:20260421T083542Z
URL:https://business.phillipscountychamber.org/events/details/holiday-open-house-in-historic-downtown-helena-129
END:VEVENT

END:VCALENDAR
