BEGIN:VCALENDAR
VERSION:2.0
PRODID:-//ChamberMaster//Event Calendar 2.0//EN
METHOD:PUBLISH
X-PUBLISHED-TTL:P3D
REFRESH-INTERVAL:P3D
CALSCALE:GREGORIAN
BEGIN:VEVENT
DTSTART:20170926T230000Z
DTEND:20170927T000000Z
X-MICROSOFT-CDO-ALLDAYEVENT:FALSE
SUMMARY:How Sports Changed the Delta
DESCRIPTION:A panel of former athletes and officials from Phillips County will discuss their careers and the impact that sports had on their lives.
X-ALT-DESC;FMTTYPE=text/html:A panel of former athletes and officials from Phillips County will discuss their careers and the impact that sports had on their lives.
LOCATION:Beth El Heritage Hall
UID:e.2678.80
SEQUENCE:3
DTSTAMP:20260421T115757Z
URL:https://business.phillipscountychamber.org/events/details/how-sports-changed-the-delta-80
END:VEVENT

END:VCALENDAR
