BEGIN:VCALENDAR
VERSION:2.0
PRODID:-//ChamberMaster//Event Calendar 2.0//EN
METHOD:PUBLISH
X-PUBLISHED-TTL:P3D
REFRESH-INTERVAL:P3D
CALSCALE:GREGORIAN
BEGIN:VEVENT
DTSTART:20171021T200000Z
DTEND:20171022T000000Z
X-MICROSOFT-CDO-ALLDAYEVENT:FALSE
SUMMARY:Humane Society of the Delta: A Haunted House
DESCRIPTION:Tales From the Ridge\, A Haunted House
X-ALT-DESC;FMTTYPE=text/html:Tales From the Ridge\, A Haunted House
LOCATION:101 Missouri Street Helena\, AR
UID:e.2678.102
SEQUENCE:3
DTSTAMP:20260419T115711Z
URL:https://business.phillipscountychamber.org/events/details/humane-society-of-the-delta-a-haunted-house-102
END:VEVENT

END:VCALENDAR
