BEGIN:VCALENDAR
VERSION:2.0
PRODID:-//ChamberMaster//Event Calendar 2.0//EN
METHOD:PUBLISH
X-PUBLISHED-TTL:P3D
REFRESH-INTERVAL:P3D
CALSCALE:GREGORIAN
BEGIN:VEVENT
DTSTART:20171116T233000Z
DTEND:20171117T020000Z
X-MICROSOFT-CDO-ALLDAYEVENT:FALSE
SUMMARY:KBBF Volunteer Appreciation Party
DESCRIPTION:If you volunteered during the 2017 King Biscuit Blues Festival\, please come and join us at the KBBF Volunteer Appreciation Party. A BBQ meal with all the trimmings\, and 1 free drink. There will be a cash bar provided by Wild Hog Saloon.
X-ALT-DESC;FMTTYPE=text/html:If you volunteered during the 2017 King Biscuit Blues Festival\, please come and join us at the KBBF&nbsp\;Volunteer Appreciation Party. A BBQ meal with all the trimmings\, and 1 free drink. There will be a cash bar provided by Wild Hog Saloon.
LOCATION:Wild Hog Saloon 106 Natchez Street Helena\, AR
UID:e.2678.130
SEQUENCE:3
DTSTAMP:20260419T132506Z
URL:https://business.phillipscountychamber.org/events/details/kbbf-volunteer-appreciation-party-130
END:VEVENT

END:VCALENDAR
