BEGIN:VCALENDAR
VERSION:2.0
PRODID:-//ChamberMaster//Event Calendar 2.0//EN
METHOD:PUBLISH
X-PUBLISHED-TTL:P3D
REFRESH-INTERVAL:P3D
CALSCALE:GREGORIAN
BEGIN:VEVENT
DTSTART:20171129T150000Z
DTEND:20171129T160000Z
X-MICROSOFT-CDO-ALLDAYEVENT:FALSE
SUMMARY:KIPP Delta Literacy Academy
DESCRIPTION:You are invited to the ribbon cutting of the new KIPP Delta Literacy Academy.
X-ALT-DESC;FMTTYPE=text/html:You are invited to the ribbon cutting of the new KIPP&nbsp\;Delta Literacy Academy.
LOCATION:103 Plaza Avenue (Beechrest School Building) West Helena\, AR
UID:e.2678.140
SEQUENCE:3
DTSTAMP:20260421T081750Z
URL:https://business.phillipscountychamber.org/events/details/kipp-delta-literacy-academy-140
END:VEVENT

END:VCALENDAR
