BEGIN:VCALENDAR
VERSION:2.0
PRODID:-//ChamberMaster//Event Calendar 2.0//EN
METHOD:PUBLISH
X-PUBLISHED-TTL:P3D
REFRESH-INTERVAL:P3D
CALSCALE:GREGORIAN
BEGIN:VEVENT
DTSTART:20170910T200000Z
DTEND:20170910T210000Z
X-MICROSOFT-CDO-ALLDAYEVENT:FALSE
SUMMARY:Kiwanis Club of Helena - West Helena Presents Law Enforcement Officer of the Year
DESCRIPTION:The Kiwanis Club will introduce the Law Enforcement Officer of the Year on September 10 from a group of ten police officers and deputies who have been recognized at club meetings over the past ten months. The program is open to the public and we hope you can join us at this special event.
X-ALT-DESC;FMTTYPE=text/html:The Kiwanis Club will introduce the Law Enforcement Officer of the Year on September 10 from a group of ten police officers and deputies who have been recognized at club meetings over the past ten months. The program is open to the public and we hope you can join us at this special event.
LOCATION:St. Mary's Catholic Church -- Parish Hall
UID:e.2678.64
SEQUENCE:3
DTSTAMP:20260421T105453Z
URL:https://business.phillipscountychamber.org/events/details/kiwanis-club-of-helena-west-helena-presents-law-enforcement-officer-of-the-year-64
END:VEVENT

END:VCALENDAR
