BEGIN:VCALENDAR
VERSION:2.0
PRODID:-//ChamberMaster//Event Calendar 2.0//EN
METHOD:PUBLISH
X-PUBLISHED-TTL:P3D
REFRESH-INTERVAL:P3D
CALSCALE:GREGORIAN
BEGIN:VEVENT
DTSTART:20190417T170000Z
DTEND:20190417T180000Z
X-MICROSOFT-CDO-ALLDAYEVENT:FALSE
SUMMARY:Lenten Listening
DESCRIPTION:Wayne Downey will be Speaker and Don Eastman will provide the special music.
X-ALT-DESC;FMTTYPE=text/html:Wayne Downey will be Speaker and Don Eastman will provide the special music.
LOCATION:Helena First United Methodist Church 502 Porter St. Helena\, AR
UID:e.2678.3180
SEQUENCE:3
DTSTAMP:20260420T082511Z
URL:https://business.phillipscountychamber.org/events/details/lenten-listening-3180
END:VEVENT

END:VCALENDAR
