BEGIN:VCALENDAR
VERSION:2.0
PRODID:-//ChamberMaster//Event Calendar 2.0//EN
METHOD:PUBLISH
X-PUBLISHED-TTL:P3D
REFRESH-INTERVAL:P3D
CALSCALE:GREGORIAN
BEGIN:VEVENT
DTSTART:20170930T150000Z
DTEND:20170930T210000Z
X-MICROSOFT-CDO-ALLDAYEVENT:FALSE
SUMMARY:Main Street Elaine: Bake Sale & Auction
DESCRIPTION:Saturday\, September 30th\, 10-4\, the Lee Street Community Center will have an activity on Main Street in Elaine.  Bubbles will lead you to a bake sale and sidewalk sale raising money to pay the insurance bill for the nonprofit.  You'll be surprised to see reasonable prices on a variety of items.  There will also be an auction down the street.
X-ALT-DESC;FMTTYPE=text/html:<p>Saturday\, September 30th\, 10-4\, the Lee Street Community Center will have an activity on Main Street in Elaine.&nbsp\; Bubbles will lead you to a bake sale and sidewalk sale raising money to pay the insurance bill for the nonprofit.&nbsp\; You&#39\;ll be surprised to see reasonable prices on a variety of items.&nbsp\; There will also be an auction down the street.</p>\n
LOCATION:Main Street Elaine\,AR
UID:e.2678.85
SEQUENCE:3
DTSTAMP:20260421T105418Z
URL:https://business.phillipscountychamber.org/events/details/main-street-elaine-bake-sale-auction-85
END:VEVENT

END:VCALENDAR
