BEGIN:VCALENDAR
VERSION:2.0
PRODID:-//ChamberMaster//Event Calendar 2.0//EN
METHOD:PUBLISH
X-PUBLISHED-TTL:P3D
REFRESH-INTERVAL:P3D
CALSCALE:GREGORIAN
BEGIN:VEVENT
DTSTART:20171021T140000Z
DTEND:20171022T030000Z
X-MICROSOFT-CDO-ALLDAYEVENT:FALSE
SUMMARY:Marvell Civic Club: Annual Marvell Main Street Festival and Levon Helm Down Home Jubilee
DESCRIPTION:Main Street\, Marvell with live music\, silent auction\, arts and crafts\, vendors\, kids games\, kids rides\, and lots of great food. At 7:00pm    that same evening the Levon Helm Jubilee will begin in the Marvell Ball Park with live music featuring JR Rodgers and the All Star Band\, great BBQ\, beer and wine. All events are free to the public. Bring your family\, bring your lawn chairs and plan for a great day and evening of fun\, music and food. The jubilee donations benefit the Levon Helm restoration project.
X-ALT-DESC;FMTTYPE=text/html:Main Street\, Marvell with live music\, silent auction\, arts and crafts\, vendors\, kids games\, kids rides\, and lots of great food. At 7:00pm&acirc\;&euro\;&OElig\; that same evening the Levon Helm Jubilee will begin in the Marvell Ball Park with live music featuring JR Rodgers and the All Star Band\, great BBQ\, beer and wine. All events are free to the public. Bring your family\, bring your lawn chairs and plan for a great day and evening of fun\, music and food. The jubilee donations benefit the Levon&nbsp\;Helm restoration project.&nbsp\;
LOCATION:Main Street\, Marvell
UID:e.2678.95
SEQUENCE:3
DTSTAMP:20260419T115849Z
URL:https://business.phillipscountychamber.org/events/details/marvell-civic-club-annual-marvell-main-street-festival-and-levon-helm-down-home-jubilee-95
END:VEVENT

END:VCALENDAR
