BEGIN:VCALENDAR
VERSION:2.0
PRODID:-//ChamberMaster//Event Calendar 2.0//EN
METHOD:PUBLISH
X-PUBLISHED-TTL:P3D
REFRESH-INTERVAL:P3D
CALSCALE:GREGORIAN
BEGIN:VEVENT
DTSTART;VALUE=DATE:20170919
DTEND;VALUE=DATE:20170920
TRANSP:TRANSPARENT
X-MICROSOFT-CDO-ALLDAYEVENT:TRUE
SUMMARY:Marvell-Elaine School District School Board Election
DESCRIPTION:NEEDS YOUR VOTE to continue debt service mills. Please support the future of our children. extending our current bonds will provide construction opportunities and new busses for Marvell-Elaine Schools
X-ALT-DESC;FMTTYPE=text/html:NEEDS YOUR VOTE to continue debt service mills. Please support the future of our children. extending our current&nbsp\;bonds will provide construction opportunities and new busses for Marvell-Elaine Schools
LOCATION:
UID:e.2678.51
SEQUENCE:3
DTSTAMP:20260421T115947Z
URL:https://business.phillipscountychamber.org/events/details/marvell-elaine-school-district-school-board-election-51
END:VEVENT

END:VCALENDAR
