BEGIN:VCALENDAR
VERSION:2.0
PRODID:-//ChamberMaster//Event Calendar 2.0//EN
METHOD:PUBLISH
X-PUBLISHED-TTL:P3D
REFRESH-INTERVAL:P3D
CALSCALE:GREGORIAN
BEGIN:VEVENT
DTSTART:20171104T150000Z
DTEND:20171104T210000Z
X-MICROSOFT-CDO-ALLDAYEVENT:FALSE
SUMMARY:Marvell United Methodist Church: Pop-up Holiday Shop
DESCRIPTION:Come shp with us at this unique event. Lots of vendors with a huge varitey of items perfect for all you gift-giving needs.
X-ALT-DESC;FMTTYPE=text/html:Come shp with us at this unique event. Lots of vendors with a huge varitey of items perfect for all you gift-giving needs.
LOCATION:Phillips Community College Helena\, AR
UID:e.2678.100
SEQUENCE:3
DTSTAMP:20260421T082633Z
URL:https://business.phillipscountychamber.org/events/details/marvell-united-methodist-church-pop-up-holiday-shop-100
END:VEVENT

END:VCALENDAR
