BEGIN:VCALENDAR
VERSION:2.0
PRODID:-//ChamberMaster//Event Calendar 2.0//EN
METHOD:PUBLISH
X-PUBLISHED-TTL:P3D
REFRESH-INTERVAL:P3D
CALSCALE:GREGORIAN
BEGIN:VEVENT
DTSTART:20170819T140000Z
DTEND:20170819T190000Z
X-MICROSOFT-CDO-ALLDAYEVENT:FALSE
SUMMARY:Mid-Summer Community Outreach
DESCRIPTION:Live Horse back rodeo show\, back to school supplies\, water slide\, and snack foods.
X-ALT-DESC;FMTTYPE=text/html:Live Horse back rodeo show\, back to school supplies\, water slide\, and snack foods.&nbsp\;
LOCATION:Second Baptist Church at 167 West Park Street\, West Helena\, AR 72390
UID:e.2678.37
SEQUENCE:3
DTSTAMP:20260421T120349Z
URL:https://business.phillipscountychamber.org/events/details/mid-summer-community-outreach-37
END:VEVENT

END:VCALENDAR
