BEGIN:VCALENDAR
VERSION:2.0
PRODID:-//ChamberMaster//Event Calendar 2.0//EN
METHOD:PUBLISH
X-PUBLISHED-TTL:P3D
REFRESH-INTERVAL:P3D
CALSCALE:GREGORIAN
BEGIN:VEVENT
DTSTART:20171112T190000Z
DTEND:20171112T230000Z
X-MICROSOFT-CDO-ALLDAYEVENT:FALSE
SUMMARY:Midland Heights Holiday Open House
DESCRIPTION:Come out to the Midland Heights Holiday Open House and Shop for Holiday Specials
X-ALT-DESC;FMTTYPE=text/html:Come out to the Midland Heights Holiday Open House and Shop for Holiday Specials
LOCATION:Something Special 610 Oakland Avenue Electic Desighns 661a Oakland Avenue
UID:e.2678.134
SEQUENCE:3
DTSTAMP:20260421T082200Z
URL:https://business.phillipscountychamber.org/events/details/midland-heights-holiday-open-house-134
END:VEVENT

END:VCALENDAR
