BEGIN:VCALENDAR
VERSION:2.0
PRODID:-//ChamberMaster//Event Calendar 2.0//EN
METHOD:PUBLISH
X-PUBLISHED-TTL:P3D
REFRESH-INTERVAL:P3D
CALSCALE:GREGORIAN
BEGIN:VEVENT
DTSTART:20170728T230000Z
DTEND:20170729T010000Z
X-MICROSOFT-CDO-ALLDAYEVENT:FALSE
SUMMARY:Mississippi River State Park: Elementary Nature Exploration
DESCRIPTION:July 7\, 2017   6:00PM\n	July 14\, 2017   6:00PM\n	July 28\, 2017   6:00PM\n\n\n\nFor children going into 1st through 5th grade and their parents each Friday will have a different theme\, but should include a short hike\, a nature lesson\, and possibly a story\,  This is a flexible activity so please come rain or shine just realize we may change things up a little depending on the weather. For more information\, contact 870-295-4040.
X-ALT-DESC;FMTTYPE=text/html:<h3 style="margin: 0px 0px 5px\; padding: 0px\; border: 0px\; outline: 0px\; font-size: 14px\; vertical-align: baseline\; background-image: initial\; background-position: initial\; background-size: initial\; background-repeat: initial\; background-attachment: initial\; background-origin: initial\; background-clip: initial\; color: rgb(0\, 0\, 0)\; font-family: Arial\, Helvetica\, sans-serif\;">&nbsp\;</h3>\n\n<ul style="margin: 0px 0px 0px 2px\; padding-right: 0px\; padding-left: 0px\; border: 0px\; outline: 0px\; vertical-align: baseline\; background: transparent\; list-style: square inside\;">\n	<li style="margin: 0px\; padding: 0px\; border: 0px\; outline: 0px\; vertical-align: baseline\; background: transparent\; list-style-position: inside\;">July 7\, 2017 &bull\; 6:00PM</li>\n	<li style="margin: 0px\; padding: 0px\; border: 0px\; outline: 0px\; vertical-align: baseline\; background: transparent\; list-style-position: inside\;">July 14\, 2017 &bull\; 6:00PM</li>\n	<li style="margin: 0px\; padding: 0px\; border: 0px\; outline: 0px\; vertical-align: baseline\; background: transparent\; list-style-position: inside\;">July 28\, 2017 &bull\; 6:00PM</li>\n</ul>\n\n<div class="content" style="margin: 0px\; padding: 0px\; border: 0px\; outline: 0px\; font-size: 15px\; vertical-align: baseline\; background-image: initial\; background-position: initial\; background-size: initial\; background-repeat: initial\; background-attachment: initial\; background-origin: initial\; background-clip: initial\; color: rgb(0\, 0\, 0)\; font-family: Arial\, Helvetica\, sans-serif\;">\n<p style="margin: 0px\; padding: 0px\; border: 0px\; outline: 0px\; vertical-align: baseline\; background: transparent\;">For children going into 1st through 5th grade and their parents each Friday will have a different theme\, but should include a short hike\, a nature lesson\, and possibly a story\,&nbsp\; This is a flexible activity so please come rain or shine just realize we may change things up a little depending on the weather. For more information\, contact 870-295-4040.</p>\n</div>\n
LOCATION:
UID:e.2678.34
SEQUENCE:3
DTSTAMP:20260421T131743Z
URL:https://business.phillipscountychamber.org/events/details/mississippi-river-state-park-elementary-nature-exploration-34
END:VEVENT

END:VCALENDAR
