BEGIN:VCALENDAR
VERSION:2.0
PRODID:-//ChamberMaster//Event Calendar 2.0//EN
METHOD:PUBLISH
X-PUBLISHED-TTL:P3D
REFRESH-INTERVAL:P3D
CALSCALE:GREGORIAN
BEGIN:VEVENT
DTSTART:20170718T140000Z
DTEND:20170718T160000Z
X-MICROSOFT-CDO-ALLDAYEVENT:FALSE
SUMMARY:Mississippi River State Park: Nature Craft Tuesday
DESCRIPTION:July 11\, 2017   10:00AM\n	July 18\, 2017   10:00AM\n	July 25\, 2017   10:00AM\n\n\n\nEvery Tuesday in July Nature Crafts $1 per Crafter. For more information\, contact Mississippi River State Park at 870-295-4040
X-ALT-DESC;FMTTYPE=text/html:<h3 style="margin: 0px 0px 5px\; padding: 0px\; border: 0px\; outline: 0px\; font-size: 14px\; vertical-align: baseline\; background-image: initial\; background-position: initial\; background-size: initial\; background-repeat: initial\; background-attachment: initial\; background-origin: initial\; background-clip: initial\; color: rgb(0\, 0\, 0)\; font-family: Arial\, Helvetica\, sans-serif\;">&nbsp\;</h3>\n\n<ul style="margin: 0px 0px 0px 2px\; padding-right: 0px\; padding-left: 0px\; border: 0px\; outline: 0px\; vertical-align: baseline\; background: transparent\; list-style: square inside\;">\n	<li style="margin: 0px\; padding: 0px\; border: 0px\; outline: 0px\; vertical-align: baseline\; background: transparent\; list-style-position: inside\;">July 11\, 2017 &bull\; 10:00AM</li>\n	<li style="margin: 0px\; padding: 0px\; border: 0px\; outline: 0px\; vertical-align: baseline\; background: transparent\; list-style-position: inside\;">July 18\, 2017 &bull\; 10:00AM</li>\n	<li style="margin: 0px\; padding: 0px\; border: 0px\; outline: 0px\; vertical-align: baseline\; background: transparent\; list-style-position: inside\;">July 25\, 2017 &bull\; 10:00AM</li>\n</ul>\n\n<div class="content" style="margin: 0px\; padding: 0px\; border: 0px\; outline: 0px\; font-size: 15px\; vertical-align: baseline\; background-image: initial\; background-position: initial\; background-size: initial\; background-repeat: initial\; background-attachment: initial\; background-origin: initial\; background-clip: initial\; color: rgb(0\, 0\, 0)\; font-family: Arial\, Helvetica\, sans-serif\;">\n<p style="margin: 0px\; padding: 0px\; border: 0px\; outline: 0px\; vertical-align: baseline\; background: transparent\;">Every Tuesday in July Nature Crafts $1 per Crafter. For more information\, contact Mississippi River State Park at 870-295-4040</p>\n</div>\n
LOCATION:
UID:e.2678.26
SEQUENCE:3
DTSTAMP:20260421T132042Z
URL:https://business.phillipscountychamber.org/events/details/mississippi-river-state-park-nature-craft-tuesday-26
END:VEVENT

END:VCALENDAR
