BEGIN:VCALENDAR
VERSION:2.0
PRODID:-//ChamberMaster//Event Calendar 2.0//EN
METHOD:PUBLISH
X-PUBLISHED-TTL:P3D
REFRESH-INTERVAL:P3D
CALSCALE:GREGORIAN
BEGIN:VEVENT
DTSTART:20171108T010000Z
DTEND:20171108T050000Z
X-MICROSOFT-CDO-ALLDAYEVENT:FALSE
SUMMARY:Movie Night at Wild Hog Saloon
DESCRIPTION:The Hero  -   Lee Hayden (Sam Elliott) is an aging Western icon with a golden voice\, but his best performances are decades behind him. He spends his days reliving old glories and smoking too much weed with his former-co-star-turned-dealer\, Jeremy (Nick Offerman)\, until a surprise cancer diagnosis brings his priorities into sharp focus. He soon strikes up an exciting\, contentious relationship with stand-up comic Charlotte (Laura Prepon)\, and he attempts to reconnect with his estranged daughter\, Lucy (Krysten Ritter)\, all while searching for one final role to cement his legacy.
X-ALT-DESC;FMTTYPE=text/html:&nbsp\;&nbsp\;<strong><span style="color:red\;"><span style="font-family:source sans pro\,sans-serif\;">The Hero&nbsp\;</span></span></strong>&nbsp\;<strong><span style="font-family:source sans pro\,sans-serif\;">-&nbsp\;</span></strong>&nbsp\;<span style="font-family:source sans pro\,sans-serif\;">&nbsp\;<strong>Lee Hayden (Sam Elliott) is an aging Western icon with a golden voice\, but his best performances are decades behind him. He spends his days reliving old glories and smoking too much weed with his former-co-star-turned-dealer\, Jeremy (Nick Offerman)\, until a surprise cancer diagnosis brings his priorities into sharp focus. He soon strikes up an exciting\, contentious relationship with stand-up comic Charlotte (Laura Prepon)\, and he attempts to reconnect with his estranged daughter\, Lucy (Krysten Ritter)\, all while searching for one final role to cement his legacy.</strong></span>
LOCATION:Wild Hog Saloon
UID:e.2678.114
SEQUENCE:3
DTSTAMP:20260421T082547Z
URL:https://business.phillipscountychamber.org/events/details/movie-night-at-wild-hog-saloon-114
END:VEVENT

END:VCALENDAR
