BEGIN:VCALENDAR
VERSION:2.0
PRODID:-//ChamberMaster//Event Calendar 2.0//EN
METHOD:PUBLISH
X-PUBLISHED-TTL:P3D
REFRESH-INTERVAL:P3D
CALSCALE:GREGORIAN
BEGIN:VEVENT
DTSTART:20171115T010000Z
DTEND:20171115T050000Z
X-MICROSOFT-CDO-ALLDAYEVENT:FALSE
SUMMARY:Movie Night at Wild Hog Saloon
DESCRIPTION:Wonder Woman -    Diana\, princess of the Amazons\, trained to be an unconquerable warrior. Raised on a sheltered island paradise\, when a pilot crashes on their shores and tells of a massive conflict raging in the outside world\, Diana leaves her home\, convinced she can stop the threat. Fighting alongside man in a war to end all wars\, Diana will discover her full powers and her true destiny.
X-ALT-DESC;FMTTYPE=text/html:<strong><span style="color:red\;"><span style="font-family:source sans pro\,sans-serif\;">Wonder Woman -</span></span></strong>&nbsp\;&nbsp\;&nbsp\;<span style="color:black\;"><span style="font-family:arial\,sans-serif\;">&nbsp\;<strong>Diana\, princess of the Amazons\, trained to be an unconquerable warrior. Raised on a sheltered island paradise\, when a pilot crashes on their shores and tells of a massive conflict raging in the outside world\, Diana leaves her home\, convinced she can stop the threat. Fighting alongside man in a war to end all wars\, Diana will discover her full powers and her true destiny.</strong></span></span><br />\n&nbsp\;
LOCATION:Wild Hog Saloon
UID:e.2678.122
SEQUENCE:3
DTSTAMP:20260421T082416Z
URL:https://business.phillipscountychamber.org/events/details/movie-night-at-wild-hog-saloon-122
END:VEVENT

END:VCALENDAR
