BEGIN:VCALENDAR
VERSION:2.0
PRODID:-//ChamberMaster//Event Calendar 2.0//EN
METHOD:PUBLISH
X-PUBLISHED-TTL:P3D
REFRESH-INTERVAL:P3D
CALSCALE:GREGORIAN
BEGIN:VEVENT
DTSTART:20171122T010000Z
DTEND:20171122T050000Z
X-MICROSOFT-CDO-ALLDAYEVENT:FALSE
SUMMARY:Movie Night at Wild Hog Saloon
DESCRIPTION:My Cousin Rachel -     Based upon the 1951 novel  My Cousin Rachel  by  Daphne du Maurier . It stars  Rachel Weisz \,  Sam Claflin \,  Iain Glen \,  Holliday Grainger  and  Pierfrancesco Favino .  A dark romance\, MY COUSIN RACHEL tells the story of a young Englishman who plots revenge against his mysterious\, beautiful cousin\, believing that she murdered his guardian. But his feelings become complicated as he finds himself falling under the beguiling spell of her charms.
X-ALT-DESC;FMTTYPE=text/html:<strong><span style="color:red\;"><span style="font-family:geneva\,sans-serif\;">My Cousin Rachel -&nbsp\;&nbsp\;</span></span></strong>&nbsp\;&nbsp\;&nbsp\;<strong><span style="color:#222222\;"><span style="font-family:arial\,sans-serif\;">Based upon the 1951 novel&nbsp\;</span></span></strong>&nbsp\;<strong><em><span style="color:#222222\;"><span style="font-family:arial\,sans-serif\;"><a href="https://en.wikipedia.org/wiki/My_Cousin_Rachel" title="My Cousin Rachel"><span style="color:#0B0080\;">My Cousin Rachel</span></a></span></span></em></strong>&nbsp\;<strong><span style="color:#222222\;"><span style="font-family:arial\,sans-serif\;">&nbsp\;by&nbsp\;</span></span></strong><strong><span style="color:black\;"><span style="font-family:geneva\,sans-serif\;">&nbsp\;<a href="https://en.wikipedia.org/wiki/Daphne_du_Maurier" title="Daphne du Maurier"><span style="color:#0B0080\;"><span style="font-family:arial\,sans-serif\;">Daphne du Maurier</span></span></a>&nbsp\;</span></span></strong><strong><span style="color:#222222\;"><span style="font-family:arial\,sans-serif\;">. It stars&nbsp\;</span></span></strong><strong><span style="color:black\;"><span style="font-family:geneva\,sans-serif\;">&nbsp\;<a href="https://en.wikipedia.org/wiki/Rachel_Weisz" title="Rachel Weisz"><span style="color:#0B0080\;"><span style="font-family:arial\,sans-serif\;">Rachel Weisz</span></span></a>&nbsp\;</span></span></strong><strong><span style="color:#222222\;"><span style="font-family:arial\,sans-serif\;">\,&nbsp\;</span></span></strong><strong><span style="color:black\;"><span style="font-family:geneva\,sans-serif\;">&nbsp\;<a href="https://en.wikipedia.org/wiki/Sam_Claflin" title="Sam Claflin"><span style="color:#0B0080\;"><span style="font-family:arial\,sans-serif\;">Sam Claflin</span></span></a>&nbsp\;</span></span></strong><strong><span style="color:#222222\;"><span style="font-family:arial\,sans-serif\;">\,&nbsp\;</span></span></strong><strong><span style="color:black\;"><span style="font-family:geneva\,sans-serif\;">&nbsp\;<a href="https://en.wikipedia.org/wiki/Iain_Glen" title="Iain Glen"><span style="color:#0B0080\;"><span style="font-family:arial\,sans-serif\;">Iain Glen</span></span></a>&nbsp\;</span></span></strong><strong><span style="color:#222222\;"><span style="font-family:arial\,sans-serif\;">\,&nbsp\;</span></span></strong><strong><span style="color:black\;"><span style="font-family:geneva\,sans-serif\;">&nbsp\;<a href="https://en.wikipedia.org/wiki/Holliday_Grainger" title="Holliday Grainger"><span style="color:#0B0080\;"><span style="font-family:arial\,sans-serif\;">Holliday Grainger</span></span></a>&nbsp\;</span></span></strong><strong><span style="color:#222222\;"><span style="font-family:arial\,sans-serif\;">&nbsp\;and&nbsp\;</span></span></strong><strong><span style="color:black\;"><span style="font-family:geneva\,sans-serif\;">&nbsp\;<a href="https://en.wikipedia.org/wiki/Pierfrancesco_Favino" title="Pierfrancesco Favino"><span style="color:#0B0080\;"><span style="font-family:arial\,sans-serif\;">Pierfrancesco Favino</span></span></a>&nbsp\;</span></span></strong><strong><span style="color:#222222\;"><span style="font-family:arial\,sans-serif\;">.&nbsp\;</span></span></strong>&nbsp\;<strong><span style="font-family:arial\,sans-serif\;">A dark romance\, MY COUSIN RACHEL tells the story of a young Englishman who plots revenge against his mysterious\, beautiful cousin\, believing that she murdered his guardian. But his feelings become complicated as he finds himself falling under the beguiling spell of her charms.</span></strong>
LOCATION:Wild Hog Saloon
UID:e.2678.123
SEQUENCE:3
DTSTAMP:20260421T082416Z
URL:https://business.phillipscountychamber.org/events/details/movie-night-at-wild-hog-saloon-123
END:VEVENT

END:VCALENDAR
