BEGIN:VCALENDAR
VERSION:2.0
PRODID:-//ChamberMaster//Event Calendar 2.0//EN
METHOD:PUBLISH
X-PUBLISHED-TTL:P3D
REFRESH-INTERVAL:P3D
CALSCALE:GREGORIAN
BEGIN:VEVENT
DTSTART:20171129T010000Z
DTEND:20171129T050000Z
X-MICROSOFT-CDO-ALLDAYEVENT:FALSE
SUMMARY:Movie Night at Wild Hog Saloon
DESCRIPTION:Queen of the Desert - Nicole Kidman\, James Franco and Damian Lewis in an American epic biographical drama film written and directed by Werner Herzog and is based on the life of British traveller\, writer\, archaeologist\, explorer\, cartographer and political officer Gertrude Bell. Gertrude Bell\, a daughter of wealthy British parents\, has no interest in the social life of the London elite. Balls\, receptions\, and the British aristocracy bring her only boredom. Aspiring to have at least some kind of activity in her life\, Gertrude decides to move to her uncle\, who occupies a high diplomatic position in Tehran. There the young lady not only gets acquainted with the East but also falls in love with an embassy employee\, Henry Cadogan. However\, their romance does not last long as her parents consider a young gentleman a bad company for their daughter and forbid them to marry. Desperate Henry commits suicide\, failing to reconcile with the forced separation. After the tragedy\, Gertrude completely devotes herself to writing and exploring the Middle East.
X-ALT-DESC;FMTTYPE=text/html:<strong><span style="color:red\;"><span style="font-family:arial\,sans-serif\;">Queen of the Desert </span></span></strong><strong><span style="font-family:arial\,sans-serif\;">- Nicole Kidman\, James Franco and Damian Lewis in an&nbsp\;</span></strong><strong><span style="color:#222222\;"><span style="font-family:arial\,sans-serif\;">American&nbsp\;</span></span></strong><strong><span style="font-family:geneva\,sans-serif\;"><a href="https://en.wikipedia.org/wiki/Epic_film" style="text-decoration-line:none\;background-position:initial\;background-size:initial\;background-repeat:initial\;background-attachment:initial\;background-origin:initial\;background-clip:initial\;" title="Epic film"><span style="color:#0B0080\;"><span style="font-family:arial\,sans-serif\;">epic</span></span></a></span></strong>&nbsp\;<strong><span style="font-family:geneva\,sans-serif\;"><a href="https://en.wikipedia.org/wiki/Biographical_film" style="text-decoration-line:none\;background-position:initial\;background-size:initial\;background-repeat:initial\;background-attachment:initial\;background-origin:initial\;background-clip:initial\;" title="Biographical film"><span style="color:#0B0080\;"><span style="font-family:arial\,sans-serif\;">biographical</span></span></a></span></strong>&nbsp\;<strong><span style="font-family:geneva\,sans-serif\;"><a href="https://en.wikipedia.org/wiki/Drama_film" style="text-decoration-line:none\;background-position:initial\;background-size:initial\;background-repeat:initial\;background-attachment:initial\;background-origin:initial\;background-clip:initial\;" title="Drama film"><span style="color:#0B0080\;"><span style="font-family:arial\,sans-serif\;">drama film</span></span></a></span></strong><strong><span style="color:#222222\;"><span style="font-family:arial\,sans-serif\;">&nbsp\;written and directed by&nbsp\;</span></span></strong><strong><span style="font-family:geneva\,sans-serif\;"><a href="https://en.wikipedia.org/wiki/Werner_Herzog" style="text-decoration-line:none\;background-position:initial\;background-size:initial\;background-repeat:initial\;background-attachment:initial\;background-origin:initial\;background-clip:initial\;" title="Werner Herzog"><span style="color:#0B0080\;"><span style="font-family:arial\,sans-serif\;">Werner Herzog</span></span></a></span></strong><strong><span style="color:#222222\;"><span style="font-family:arial\,sans-serif\;">&nbsp\;and is based on the life of British traveller\, writer\, archaeologist\, explorer\, cartographer and political officer&nbsp\;</span></span></strong><strong><span style="font-family:geneva\,sans-serif\;"><a href="https://en.wikipedia.org/wiki/Gertrude_Bell" style="text-decoration-line:none\;background-position:initial\;background-size:initial\;background-repeat:initial\;background-attachment:initial\;background-origin:initial\;background-clip:initial\;" title="Gertrude Bell"><span style="color:#0B0080\;"><span style="font-family:arial\,sans-serif\;">Gertrude Bell</span></span></a></span></strong><strong><span style="color:#222222\;"><span style="font-family:arial\,sans-serif\;">.&nbsp\;Gertrude Bell\, a daughter of wealthy British parents\, has no interest in the social life of the London elite. Balls\, receptions\, and the British aristocracy bring her only boredom. Aspiring to have at least some kind of activity in her life\, Gertrude decides to move to her uncle\, who occupies a high diplomatic position in Tehran. There the young lady not only gets acquainted with the East but also falls in love with an embassy employee\, Henry Cadogan. However\, their romance does not last long as her parents consider a young gentleman a bad company for their daughter and forbid them to marry. Desperate Henry commits suicide\, failing to reconcile with the forced separation. After the tragedy\, Gertrude completely devotes herself to writing and exploring the Middle East.</span></span></strong>
LOCATION:Wild Hog Saloon
UID:e.2678.124
SEQUENCE:3
DTSTAMP:20260421T082548Z
URL:https://business.phillipscountychamber.org/events/details/movie-night-at-wild-hog-saloon-124
END:VEVENT

END:VCALENDAR
