BEGIN:VCALENDAR
VERSION:2.0
PRODID:-//ChamberMaster//Event Calendar 2.0//EN
METHOD:PUBLISH
X-PUBLISHED-TTL:P3D
REFRESH-INTERVAL:P3D
CALSCALE:GREGORIAN
BEGIN:VEVENT
DTSTART:20171227T010000Z
DTEND:20171227T050000Z
X-MICROSOFT-CDO-ALLDAYEVENT:FALSE
SUMMARY:Movie Night at Wild Hog Saloon
DESCRIPTION:The Wizard of Lies - Directed by Barry Levinson. With Robert De Niro\, Michelle Pfeiffer\, Alessandro Nivola\, Nathan Darrow. Adaptation of journalist Diana B. Henriques' account of financier Bernie Madoff's orchestration of one of the largest frauds in U.S. history that led to financial ruin for thousands of investors and\, in the process\, his own family's destruction.
X-ALT-DESC;FMTTYPE=text/html:<strong><span style="color:red\;"><span style="font-family:arial\,sans-serif\;">The Wizard of Lies</span></span></strong><strong><span style="color:black\;"><span style="font-family:arial\,sans-serif\;">&nbsp\;-&nbsp\;Directed by Barry Levinson. With Robert De Niro\, Michelle Pfeiffer\, Alessandro Nivola\, Nathan Darrow.&nbsp\;</span></span></strong><strong><span style="font-family:arial\,sans-serif\;">Adaptation of journalist Diana B. Henriques&#39\; account of financier Bernie Madoff&#39\;s orchestration of one of the largest frauds in U.S. history that led to financial ruin for thousands of investors and\, in the process\, his own family&#39\;s destruction.</span></strong>&nbsp\;<br />\n&nbsp\;
LOCATION:Wild Hog Saloon
UID:e.2678.155
SEQUENCE:3
DTSTAMP:20260421T082446Z
URL:https://business.phillipscountychamber.org/events/details/movie-night-at-wild-hog-saloon-155
END:VEVENT

END:VCALENDAR
